BEGIN:VCALENDAR
VERSION:2.0
PRODID:-//hacksw/handcal//NONSGML v1.0//EN
BEGIN:VEVENT
SUMMARY:Open mixte: Challenge rugby Normand
UID:fbe4305d-d56c-4125-bf3a-0b592805fd9a
DTSTART:20210613T130000Z
DTEND:20210613T153000Z
LOCATION:Localisation Stade Le Dantec 76 Fecamp
CATEGORIES:Sportif
STATUS:
URL;VALUE=URI:https://www.rugbyclubyvetotais.com/evenements/2021/06/13/open-mixte-challenge-rugby-normand-1487761
END:VEVENT
END:VCALENDAR
