BEGIN:VCALENDAR
VERSION:2.0
PRODID:-//hacksw/handcal//NONSGML v1.0//EN
BEGIN:VEVENT
SUMMARY:U19: Challenge rugby Normand
UID:31c05bb0-09ce-4ea5-bdfd-cd5db5ac8350
DTSTART:20210612T130000Z
DTEND:20210612T153000Z
LOCATION:Localisation Rue Jean Bouin 27000 Evreux
CATEGORIES:Sportif
STATUS:
DESCRIPTION:<p>Depart en bus a 12h45</p>
 
URL;VALUE=URI:https://www.rugbyclubyvetotais.com/evenements/2021/06/12/u19-challenge-rugby-normand-1487764
END:VEVENT
END:VCALENDAR
