BEGIN:VCALENDAR
VERSION:2.0
PRODID:-//hacksw/handcal//NONSGML v1.0//EN
BEGIN:VEVENT
SUMMARY:Entrainement avec l'IME
UID:7e16d13a-8906-4f7a-a411-b30f410f5d56
DTSTART:20150401T080000Z
DTEND:20150401T100000Z
LOCATION:Localisation   
CATEGORIES:Sportif
STATUS:
DESCRIPTION:<p>Entrainement avec les enfants de l'Institut Medico
 Educatif. Inscription prealable indispensable aupres d'Yves
 Tonnerre.</p>
 
URL;VALUE=URI:https://www.rugbyclubyvetotais.com/evenements/2015/04/01/entrainement-avec-lime-585839
END:VEVENT
END:VCALENDAR
