BEGIN:VCALENDAR
VERSION:2.0
PRODID:-//hacksw/handcal//NONSGML v1.0//EN
BEGIN:VEVENT
SUMMARY:-18 Feminines
UID:ae9fc13e-8eb2-4f6b-8b8d-fc13190ee482
DTSTART:20150321T230000Z
DTEND:20150322T230000Z
LOCATION:Localisation Stade du Pre du Chateau 72400 La Ferte Bernard
CATEGORIES:Sportif
STATUS:
DESCRIPTION:<p><span style="color:#0000CD;"><span
 style="font-size:18px;">Championnat -18 ans a VII espoir / phase de
 qualification</span></span></p>
 
 <p style="text-align:justify;"><span
 style="font-size:14px;"><span style="color:#0000CD;">En entente avec
 les moins 18 ans du <strong>H</strong>avre <strong>R</strong>ugby
 <strong>C</strong>lub, les Cadettes Yvetotaises se deplaceront a la
 Ferte Bernard le 22 mars prochain.<br />
 Elles
 affronteront:</span></span></p>
 
 <ul>
 	<li><span
 style="color:#0000CD;">Bernay</span></li>
 	<li><span
 style="color:#0000CD;">Eurelienne</span></li>
 	<li><span
 style="color:#0000CD;">La Fleche</span></li>
 	<li><span
 style="color:#0000CD;">Caen II</span><br />
 	 </li>
 </ul>
 
URL;VALUE=URI:https://www.rugbyclubyvetotais.com/evenements/2015/03/22/18-feminines-587004
END:VEVENT
END:VCALENDAR
