BEGIN:VCALENDAR
VERSION:2.0
PRODID:-//hacksw/handcal//NONSGML v1.0//EN
BEGIN:VEVENT
SUMMARY:Orange Rugby Challenge
UID:9a6f9d1d-9581-425d-a61d-f22b4952196f
DTSTART:20150321T123000Z
DTEND:20150321T163000Z
LOCATION:Localisation Stade Louis Bielman - rue Paul Cornu 14100 Lisieux
CATEGORIES:Sportif
STATUS:
DESCRIPTION:<p style="padding:0px 0px 8px;margin:20px 0px
 0px;border:0px;color:rgb(63,60,56);font-family:Tahoma, Geneva,
 sans-serif, Arial;font-size:14px;line-height:normal;"><span
 style="color:#0000FF;"><span
 style="padding:0px;margin:0px;border:0px;font-size:10pt;font-family:verdana,
 geneva;"><strong style="padding:0px;margin:0px;border:0px;">Le samedi
 21 mars 2015</strong>, aura lieu a Lisieux, <strong
 style="padding:0px;margin:0px;border:0px;">la finale territoriale de
 l'ORANGE RUGBY CHALLENGE</strong>.</span><span
 style="padding:0px;margin:0px;border:0px;font-size:10pt;font-family:verdana,
 geneva;"> </span></span></p>
 
 <p style="padding:0px 0px
 8px;margin:20px 0px
 0px;border:0px;color:rgb(63,60,56);font-family:Tahoma, Geneva,
 sans-serif, Arial;font-size:14px;line-height:normal;"><span
 style="color:#0000FF;"><span
 style="padding:0px;margin:0px;border:0px;font-size:10pt;font-family:verdana,
 geneva;"><em style="padding:0px;margin:0px;border:0px;">Deroulement
 de cette journee :</em></span><br
 style="padding:0px;margin:0px;border:0px;" />
 <span
 style="padding:0px;margin:0px;border:0px;font-size:10pt;font-family:verdana,
 geneva;">- <strong
 style="padding:0px;margin:0px;border:0px;">13h30</strong> : accueil
 des equipes</span><br style="padding:0px;margin:0px;border:0px;"
 />
 <span
 style="padding:0px;margin:0px;border:0px;font-size:10pt;font-family:verdana,
 geneva;">- <strong
 style="padding:0px;margin:0px;border:0px;">14h00</strong> : tirage
 au sort pour les oppositions</span><br
 style="padding:0px;margin:0px;border:0px;" />
 <span
 style="padding:0px;margin:0px;border:0px;font-size:10pt;font-family:verdana,
 geneva;">- <strong
 style="padding:0px;margin:0px;border:0px;">14h30</strong> : debut de
 l'ORC</span><br style="padding:0px;margin:0px;border:0px;" />
 <span
 style="padding:0px;margin:0px;border:0px;font-size:10pt;font-family:verdana,
 geneva;">- <strong
 style="padding:0px;margin:0px;border:0px;">17h00</strong> : fin de
 l'ORC, annonce du classement et remise des
 recompenses.</span></span><br />
 <br />
 <span
 style="padding:0px;margin:0px;border:0px;font-size:10pt;font-family:verdana,
 geneva;color:#000000;"><a
 href="http://www.normandie-rugby.com/TOURNOIS2015/LISTE_CLUBS_QUALIFIES.pdf"
 target="_blank" rel="noreferrer noopener">Les clubs
 qualifies</a></span></p>
 
URL;VALUE=URI:https://www.rugbyclubyvetotais.com/evenements/2015/03/21/orange-rugby-challenge-592216
END:VEVENT
END:VCALENDAR
