BEGIN:VCALENDAR
VERSION:2.0
PRODID:-//hacksw/handcal//NONSGML v1.0//EN
BEGIN:VEVENT
SUMMARY:Amazones - Championnat 
UID:2a3f2bfc-6b6d-49ad-bd24-5844b73d601d
DTSTART:20150307T230000Z
DTEND:20150308T230000Z
LOCATION:Localisation 10 rue Pierre Piffault 72100 Le Mans
CATEGORIES:Sportif
STATUS:
DESCRIPTION:<p><strong><span style="color:#0000CD;"><span
 style="font-size:16px;">Championnat Federale III Feminines a VII -
 seconde phase</span></span></strong></p>
 
 <p><strong><span
 style="color:#0000CD;"><span style="font-size:16px;">Matchs
 contre:</span></span></strong></p>
 
 <ul>
 	<li style="margin:6px
 0px;color:rgb(20,24,35);font-family:Helvetica, Arial, 'lucida
 grande', tahoma, verdana, arial,
 sans-serif;font-size:14px;line-height:17.5636348724365px;"><span
 style="color:#0000CD;">Mayenne</span></li>
 	<li style="margin:6px
 0px;color:rgb(20,24,35);font-family:Helvetica, Arial, 'lucida
 grande', tahoma, verdana, arial,
 sans-serif;font-size:14px;line-height:17.5636348724365px;"><span
 style="color:#0000CD;">Segre</span></li>
 	<li style="margin:6px
 0px;color:rgb(20,24,35);font-family:Helvetica, Arial, 'lucida
 grande', tahoma, verdana, arial,
 sans-serif;font-size:14px;line-height:17.5636348724365px;"><span
 style="color:#0000CD;">Redon</span></li>
 	<li style="margin:6px
 0px;color:rgb(20,24,35);font-family:Helvetica, Arial, 'lucida
 grande', tahoma, verdana, arial,
 sans-serif;font-size:14px;line-height:17.5636348724365px;"><span
 style="color:#0000CD;">Cherbourg</span></li>
 	<li style="margin:6px
 0px;color:rgb(20,24,35);font-family:Helvetica, Arial, 'lucida
 grande', tahoma, verdana, arial,
 sans-serif;font-size:14px;line-height:17.5636348724365px;"><span
 style="color:#0000CD;">Cote de Nacre</span></li>
 </ul>
 
URL;VALUE=URI:https://www.rugbyclubyvetotais.com/evenements/2015/03/08/amazones-championnat-586743
END:VEVENT
END:VCALENDAR
