BEGIN:VCALENDAR
VERSION:2.0
PRODID:-//hacksw/handcal//NONSGML v1.0//EN
BEGIN:VEVENT
SUMMARY:Feminines: plateau
UID:6a24d972-80db-4c11-8116-aa185ce774a3
DTSTART:20150207T230000Z
DTEND:20150208T230000Z
LOCATION:Localisation Stade Municipal Le Platon / route de Courseulles 14990 Bernieres sur Mer
CATEGORIES:Sportif
STATUS:
DESCRIPTION:<p><strong><span style="color:#000080;"><span
 style="font-size:14px;">Matchs
 contre</span></span></strong></p>
 
 <ul>
 	<li><span
 style="color:#000080;"><span style="font-size:14px;">Ovalie
 Caennaise</span></span></li>
 	<li><span style="color:#000080;"><span
 style="font-size:14px;">Bernay</span></span></li>
 	<li><span
 style="color:#000080;"><span style="font-size:14px;">Cote de
 Nacre</span></span></li>
 	<li><span style="color:#000080;"><span
 style="font-size:14px;">Cherbourg Hague</span></span></li>
 </ul>
 
URL;VALUE=URI:https://www.rugbyclubyvetotais.com/evenements/2015/02/08/feminines-plateau-575249
END:VEVENT
END:VCALENDAR
