BEGIN:VCALENDAR
VERSION:2.0
PRODID:-//hacksw/handcal//NONSGML v1.0//EN
BEGIN:VEVENT
SUMMARY:U8, U10 & U12: plateau
UID:16427ef7-c62e-477a-9db1-4aed103d01aa
DTSTART:20150131T130000Z
DTEND:20150131T160000Z
LOCATION:Localisation Stade Mermoz - rue de la Motte 76000 Rouen
CATEGORIES:Sportif
STATUS:
DESCRIPTION:<p>Plateau contre Rouen/Couronne et Saint Andre de
 l'Eure.<br />
 Stade Mermoz</p>
 
 <p>Rendez-vous a 13h00.</p>
 
 <p><br
 />
  </p>
 
URL;VALUE=URI:https://www.rugbyclubyvetotais.com/evenements/2015/01/31/u8-u10-amp-u12-plateau-571626
END:VEVENT
END:VCALENDAR
