BEGIN:VCALENDAR
VERSION:2.0
PRODID:-//hacksw/handcal//NONSGML v1.0//EN
BEGIN:VEVENT
SUMMARY:U14: championnat a XV
UID:5d34f066-9711-4b45-863e-fe3aafb20082
DTSTART:20150130T230000Z
DTEND:20150131T230000Z
LOCATION:Localisation Stade Le Dantec 76400 Fecamp
CATEGORIES:Sportif
STATUS:
DESCRIPTION:<p><strong>A Fecamp</strong><br />
  </p>
 
 <p>Matchs
 c<span
 style="line-height:20.7999992370605px;">ontre:</span></p>
 
 <ul>
 	<li>Entente
 Racing Club Port du Havre - Fecamp Rugby Club</li>
 	<li>ALCL
 Quevilly</li>
 </ul>
 
URL;VALUE=URI:https://www.rugbyclubyvetotais.com/evenements/2015/01/31/u14-championnat-a-xv-549873
END:VEVENT
END:VCALENDAR
