BEGIN:VCALENDAR
VERSION:2.0
PRODID:-//hacksw/handcal//NONSGML v1.0//EN
BEGIN:VEVENT
SUMMARY:U16 - stage sportif
UID:3bfd82de-9cd6-4e37-a4c5-2cc1cd494d31
DTSTART:20150103T083000Z
DTEND:20150103T160000Z
LOCATION:Localisation Complexe de la Plaine des Sports / rue Retimare 76190 Yvetot
CATEGORIES:Entrainement
STATUS:
DESCRIPTION:<p style="text-align:justify;"><span
 style="font-size:14px;"><span style="color:#0000CD;">Samedi
 <strong>03 janvier</strong>, stage sportif pour les U16.<br
 />
 Rendez-vous a <strong>9h30</strong>.<br />
 Participation de
 <strong>5€</strong> demandee pour le repas du
 midi.</span></span></p>
 
 <p style="text-align:justify;"><span
 style="color:#0000CD;"><u><strong><span style="font-size:14px;">Merci
 de confirmer votre presence avant le 30/12 aupres de Nathalie
 Tetrel.</span></strong></u></span></p>
 
URL;VALUE=URI:https://www.rugbyclubyvetotais.com/evenements/2015/01/03/u16-stage-sportif-557406
END:VEVENT
END:VCALENDAR
