BEGIN:VCALENDAR
VERSION:2.0
PRODID:-//hacksw/handcal//NONSGML v1.0//EN
BEGIN:VEVENT
SUMMARY:Ecole de Rugby: gouter de Noel...
UID:80d70674-54a6-45a3-8425-c22c8e492f20
DTSTART:20141220T150000Z
DTEND:20141220T160000Z
LOCATION:Localisation Maison du Rugby 76190 Yvetot
CATEGORIES:Festif
STATUS:
DESCRIPTION:<p style="text-align:justify;"><span
 style="font-size:14px;"><span style="color:#000080;">A l'issue de
 l'entrainement, les enfants de l'ecole de rugby recevront la visite
 d'un hote de marque, tout de rouge vetu...</span></span></p>
 
URL;VALUE=URI:https://www.rugbyclubyvetotais.com/evenements/2014/12/20/ecole-de-rugby-gouter-de-noel-502769
END:VEVENT
END:VCALENDAR
