BEGIN:VCALENDAR
VERSION:2.0
PRODID:-//hacksw/handcal//NONSGML v1.0//EN
BEGIN:VEVENT
SUMMARY:Cadettes: tournoi
UID:874c5d47-beb1-48dc-9ae2-80be284d469f
DTSTART:20141213T230000Z
DTEND:20141214T230000Z
LOCATION:Localisation Rue de la Croix Vaubois 76130 Mont Saint Aignan
CATEGORIES:Sportif
STATUS:
DESCRIPTION:<p><span style="color:#0000CD;"><span
 style="font-size:16px;"><strong>En entente avec le
 HRC</strong></span></span></p>
 
 <p><span
 style="color:#0000CD;">matchs contre:</span></p>
 
 <ul>
 	<li><span
 style="color:#0000CD;">CD 76</span></li>
 	<li><span
 style="color:#0000CD;">Bernay</span></li>
 	<li><span
 style="color:#0000CD;">Ovalie Caennaise I & II</span></li>
 </ul>
 
URL;VALUE=URI:https://www.rugbyclubyvetotais.com/evenements/2014/12/14/cadettes-tournoi-551592
END:VEVENT
END:VCALENDAR
