BEGIN:VCALENDAR
VERSION:2.0
PRODID:-//hacksw/handcal//NONSGML v1.0//EN
BEGIN:VEVENT
SUMMARY:Plateau Ecole de Rugby
UID:8fc94fda-348c-47e4-a5a0-71ae342f0f3e
DTSTART:20141213T130000Z
DTEND:20141213T153000Z
LOCATION:Localisation Plaine des Sports / rue Retimare 76190 Yvetot
CATEGORIES:Sportif
STATUS:
DESCRIPTION:<p><span style="color:#0000CD;">Suite a l'arrete
 municipal de la ville de Gravenchon, interdisant l'acces au Stade des
 Cites samedi apres-midi, le tournoi se deroulera a Yvetot. Les U8,
 U10 & U12 affronteront</span></p>
 
 <ul>
 	<li><span
 style="color:#0000CD;">CSG</span></li>
 	<li><span
 style="color:#0000CD;">?RCPH</span></li>
 </ul>
 
URL;VALUE=URI:https://www.rugbyclubyvetotais.com/evenements/2014/12/13/plateau-ecole-de-rugby-550939
END:VEVENT
END:VCALENDAR
