BEGIN:VCALENDAR
VERSION:2.0
PRODID:-//hacksw/handcal//NONSGML v1.0//EN
BEGIN:VEVENT
SUMMARY:Amazones - Championnat
UID:335db694-8a4c-4d1b-b789-f124bb0393de
DTSTART:20141123T123000Z
DTEND:20141123T160000Z
LOCATION:Localisation  14990 Bernieres sur Mer
CATEGORIES:Sportif
STATUS:
DESCRIPTION:<p><span style="color:#0000CD;">Deplacement a Bernieres
 sur Mer, pour affronter</span></p>
 
 <ul>
 	<li><span
 style="color:#0000CD;">Cote de Nacre</span></li>
 	<li><span
 style="color:#0000CD;">Ovalie Caennaise</span></li>
 	<li><span
 style="color:#0000CD;">RC Cherbourg Hague</span></li>
 	<li><span
 style="color:#0000CD;">SC Bernay</span></li>
 </ul>
 
URL;VALUE=URI:https://www.rugbyclubyvetotais.com/evenements/2014/11/23/amazones-championnat-543479
END:VEVENT
END:VCALENDAR
