BEGIN:VCALENDAR
VERSION:2.0
PRODID:-//hacksw/handcal//NONSGML v1.0//EN
BEGIN:VEVENT
SUMMARY:Entrainement avec l'IME
UID:8938569a-a7a3-452c-9167-07e0d08edc6b
DTSTART:20141119T090000Z
DTEND:20141119T110000Z
LOCATION:Localisation Plaine des Sports / rue Retimare 76190 Yvetot
CATEGORIES:Entrainement
STATUS:
DESCRIPTION:<p style="text-align:justify;"><font color="#0000cd"
 size="3">Entrainement pour les moins 8 et moins 10 ans avec les
 enfants de l'Institut Medico Educatif.</font></p>
 
 <p
 style="text-align:justify;"><span style="font-size:16px;"><span
 style="color:#0000CD;">Rendez-vous a 10h00 a la Maison du Rugby. Fin
 de la seance a 12h00.</span></span></p>
 
 <p
 style="text-align:justify;"><span style="font-size:16px;"><span
 style="color:#0000CD;">A l'issue de l'entrainement, un dejeuner sera
 servi a tous les participants.</span></span></p>
 
 <p
 style="text-align:justify;"><strong><span
 style="font-size:16px;"><span style="color:#0000CD;">Inscription
 prealable aupres d'<a
 href="mailto:yves.tonnerre@sncf.fr?subject=Entra%C3%AEnement%20du%2015%2F10%20avec%20l'IME">Yves
 Tonnerre</a> indispensable.</span></span></strong></p>
 
URL;VALUE=URI:https://www.rugbyclubyvetotais.com/evenements/2014/11/19/entrainement-avec-lime-542276
END:VEVENT
END:VCALENDAR
