BEGIN:VCALENDAR
VERSION:2.0
PRODID:-//hacksw/handcal//NONSGML v1.0//EN
BEGIN:VEVENT
SUMMARY:U15
UID:419c8367-fbe5-4641-860e-906ea7ade4fe
DTSTART:20120827T220000Z
DTEND:20120828T220000Z
LOCATION:Localisation   
CATEGORIES:Sportif
STATUS:
DESCRIPTION:Stage de debut de saison
URL;VALUE=URI:https://www.rugbyclubyvetotais.com/evenements/2012/08/28/u15-16780
END:VEVENT
END:VCALENDAR
