BEGIN:VCALENDAR
VERSION:2.0
PRODID:-//hacksw/handcal//NONSGML v1.0//EN
BEGIN:VEVENT
SUMMARY:Cadets
UID:37b0d728-3be7-46c0-810f-0e44bc50dd97
DTSTART:20120822T220000Z
DTEND:20120823T220000Z
LOCATION:Localisation   
CATEGORIES:Sportif
STATUS:
DESCRIPTION:Reprise de l'entrainement
URL;VALUE=URI:https://www.rugbyclubyvetotais.com/evenements/2012/08/23/cadets-16779
END:VEVENT
END:VCALENDAR
