BEGIN:VCALENDAR
VERSION:2.0
PRODID:-//hacksw/handcal//NONSGML v1.0//EN
BEGIN:VEVENT
SUMMARY:24h00 de la foire a tout
UID:028a850c-3e7e-4a2b-8790-9b035d165c90
DTSTART:20120622T220000Z
DTEND:20120623T220000Z
LOCATION:Localisation   
CATEGORIES:Sportif
STATUS:
DESCRIPTION:Pour la troisieme fois, le Rugby Club Yvetotais
 organisera les 24h00 de la foire a tout du samedi 23 au dimanche 24
 juin 2012, sur le parking du Champ de Foire, rue Retimare, a Yvetot. 
URL;VALUE=URI:https://www.rugbyclubyvetotais.com/evenements/2012/06/23/24h00-de-la-foire-a-tout-16907
END:VEVENT
END:VCALENDAR
