BEGIN:VCALENDAR
VERSION:2.0
PRODID:-//hacksw/handcal//NONSGML v1.0//EN
BEGIN:VEVENT
SUMMARY:U11: Challenge Marcel Sense
UID:1027372d-fe2b-49f2-9480-65f71d28100a
DTSTART:20120609T220000Z
DTEND:20120610T220000Z
LOCATION:Localisation   
CATEGORIES:Sportif
STATUS:
DESCRIPTION:a Mont Saint Aignan, toutes les equipes de Haute et Basse
 Normandie moins 11 ans se retrouvent et s'affrontent toute la
 journee.
 Qui remportera le titre cette annee?
URL;VALUE=URI:https://www.rugbyclubyvetotais.com/evenements/2012/06/10/u11-challenge-marcel-sense-16897
END:VEVENT
END:VCALENDAR
