BEGIN:VCALENDAR
VERSION:2.0
PRODID:-//hacksw/handcal//NONSGML v1.0//EN
BEGIN:VEVENT
SUMMARY:U7 & U9: finales territoriales
UID:954cc863-c6e9-4305-9414-f352f6fee64d
DTSTART:20120602T220000Z
DTEND:20120603T220000Z
LOCATION:Localisation   
CATEGORIES:Sportif
STATUS:
DESCRIPTION:Bayeux:
 Finales territoriales moins 7 & moins 9 ans.
 Toutes les ecoles de rugby de Haute et Basse Normandie se
 rencontrent.
 C'est l'evenement "phare" de la saison rugbytisque des
 enfants! Pensez a reserver votre journee.
 
URL;VALUE=URI:https://www.rugbyclubyvetotais.com/evenements/2012/06/03/u7-amp-u9-finales-territoriales-16941
END:VEVENT
END:VCALENDAR
