BEGIN:VCALENDAR
VERSION:2.0
PRODID:-//hacksw/handcal//NONSGML v1.0//EN
BEGIN:VEVENT
SUMMARY:Journee des Copains
UID:2adcdfa1-27b1-4270-93da-5a505994c1d0
DTSTART:20120601T220000Z
DTEND:20120602T220000Z
LOCATION:Localisation   
CATEGORIES:Sportif
STATUS:
DESCRIPTION:Toute la journee, sur le complexe de la Plaine des
 Sports...
URL;VALUE=URI:https://www.rugbyclubyvetotais.com/evenements/2012/06/02/journee-des-copains-16804
END:VEVENT
END:VCALENDAR
