BEGIN:VCALENDAR
VERSION:2.0
PRODID:-//hacksw/handcal//NONSGML v1.0//EN
BEGIN:VEVENT
SUMMARY:U15: match a Rouen
UID:5d68ba64-f6d7-4f79-a314-56e998baa7cf
DTSTART:20120525T220000Z
DTEND:20120526T220000Z
LOCATION:Localisation   
CATEGORIES:Sportif
STATUS:
DESCRIPTION:au Stade Mermoz
URL;VALUE=URI:https://www.rugbyclubyvetotais.com/evenements/2012/05/26/u15-match-a-rouen-16956
END:VEVENT
END:VCALENDAR
