BEGIN:VCALENDAR
VERSION:2.0
PRODID:-//hacksw/handcal//NONSGML v1.0//EN
BEGIN:VEVENT
SUMMARY:U13: match a Rouen
UID:3c9c0d08-234f-4b9b-a939-15b0460cea6b
DTSTART:20120525T220000Z
DTEND:20120526T220000Z
LOCATION:Localisation   
CATEGORIES:Sportif
STATUS:
DESCRIPTION:au Stade Mermoz
URL;VALUE=URI:https://www.rugbyclubyvetotais.com/evenements/2012/05/26/u13-match-a-rouen-16957
END:VEVENT
END:VCALENDAR
