BEGIN:VCALENDAR
VERSION:2.0
PRODID:-//hacksw/handcal//NONSGML v1.0//EN
BEGIN:VEVENT
SUMMARY:Coupe Cadets Grand Ouest
UID:a06fc8bf-9af1-40fc-b45d-f71d8b294d54
DTSTART:20120518T220000Z
DTEND:20120519T220000Z
LOCATION:Localisation   
CATEGORIES:Sportif
STATUS:
DESCRIPTION:triangulaire qualificative pour la finale, contre Dieppe
 et Le Havre.
URL;VALUE=URI:https://www.rugbyclubyvetotais.com/evenements/2012/05/19/coupe-cadets-grand-ouest-16890
END:VEVENT
END:VCALENDAR
