BEGIN:VCALENDAR
VERSION:2.0
PRODID:-//hacksw/handcal//NONSGML v1.0//EN
BEGIN:VEVENT
SUMMARY:Ecole de rugby - entrainement avec l'IME
UID:79233245-6bd0-4551-831e-0ea7abda6698
DTSTART:20120517T220000Z
DTEND:20120518T220000Z
LOCATION:Localisation   
CATEGORIES:Sportif
STATUS:
DESCRIPTION:Rendez-vous a 10h00 - Possibilite de dejeuner au club
 (sur inscription, renseignement aupres d'Yves Tonnerre)
URL;VALUE=URI:https://www.rugbyclubyvetotais.com/evenements/2012/05/18/ecole-de-rugby-entrainement-avec-lime-16826
END:VEVENT
END:VCALENDAR
