BEGIN:VCALENDAR
VERSION:2.0
PRODID:-//hacksw/handcal//NONSGML v1.0//EN
BEGIN:VEVENT
SUMMARY:Feminines
UID:7746d3f5-b27e-427b-aceb-c43edacd8ee0
DTSTART:20120512T220000Z
DTEND:20120513T220000Z
LOCATION:Localisation   
CATEGORIES:Sportif
STATUS:
DESCRIPTION:Championnat +18 a 7 / Secteur Grand Ouest / Finale
 
 Le 13
 mai prochain, les Feminines de l'entente CS Andelys-RC Yvetotais se
 rendront a Chartres, au stade Claude Panier, pour y affronter
 l'Ovalie Deoloise, le SCOR Angers, le rassemblement 37 Feminin, le
 rassemblement Cher Feminin et Montargis ERAM.
 
 Ce tournoi debutera a
 13h30.
 
 
URL;VALUE=URI:https://www.rugbyclubyvetotais.com/evenements/2012/05/13/feminines-16891
END:VEVENT
END:VCALENDAR
