BEGIN:VCALENDAR
VERSION:2.0
PRODID:-//hacksw/handcal//NONSGML v1.0//EN
BEGIN:VEVENT
SUMMARY:Cadets: trophee Societe Generale a 7
UID:d0cdfa71-fdbc-4ed0-8543-0ff23466c91c
DTSTART:20120512T220000Z
DTEND:20120513T220000Z
LOCATION:Localisation   
CATEGORIES:Sportif
STATUS:
DESCRIPTION:Finale regionale a Flers
URL;VALUE=URI:https://www.rugbyclubyvetotais.com/evenements/2012/05/13/cadets-trophee-societe-generale-a-7-16954
END:VEVENT
END:VCALENDAR
