BEGIN:VCALENDAR
VERSION:2.0
PRODID:-//hacksw/handcal//NONSGML v1.0//EN
BEGIN:VEVENT
SUMMARY:U13 /  U15: tournoi a Rouen
UID:263dabb8-f6d8-460c-8d3f-4dbd351c5295
DTSTART:20120511T220000Z
DTEND:20120512T220000Z
LOCATION:Localisation   
CATEGORIES:Sportif
STATUS:
DESCRIPTION:Matchs contre L'Aigle, Ovalies Portes de l'Eure et Rouen
URL;VALUE=URI:https://www.rugbyclubyvetotais.com/evenements/2012/05/12/u13-u15-tournoi-a-rouen-16955
END:VEVENT
END:VCALENDAR
