BEGIN:VCALENDAR
VERSION:2.0
PRODID:-//hacksw/handcal//NONSGML v1.0//EN
BEGIN:VEVENT
SUMMARY:Tournoi Patrice LEGRAND
UID:a50b9801-d1f9-4351-9a8b-0f4db4fd3caa
DTSTART:20120511T220000Z
DTEND:20120512T220000Z
LOCATION:Localisation   
CATEGORIES:Sportif
STATUS:
DESCRIPTION:tournoi jeu a toucher
URL;VALUE=URI:https://www.rugbyclubyvetotais.com/evenements/2012/05/12/tournoi-patrice-legrand-16892
END:VEVENT
END:VCALENDAR
