BEGIN:VCALENDAR
VERSION:2.0
PRODID:-//hacksw/handcal//NONSGML v1.0//EN
BEGIN:VEVENT
SUMMARY:Seniors: RCY - Eu
UID:2f41e656-55b6-4e39-9848-4b3b281dc5e8
DTSTART:20120421T220000Z
DTEND:20120422T220000Z
LOCATION:Localisation   
CATEGORIES:Sportif
STATUS:
DESCRIPTION:Championnat de Normandie / match pour la 3eme place
URL;VALUE=URI:https://www.rugbyclubyvetotais.com/evenements/2012/04/22/seniors-rcy-eu-16953
END:VEVENT
END:VCALENDAR
