BEGIN:VCALENDAR
VERSION:2.0
PRODID:-//hacksw/handcal//NONSGML v1.0//EN
BEGIN:VEVENT
SUMMARY:U17: Coupe Grand Ouest
UID:f8c3b038-6180-4935-bf0f-2319bfcdbcd1
DTSTART:20120420T220000Z
DTEND:20120421T220000Z
LOCATION:Localisation   
CATEGORIES:Sportif
STATUS:
DESCRIPTION:Les Cadets recoivent Granville a Yvetot.
URL;VALUE=URI:https://www.rugbyclubyvetotais.com/evenements/2012/04/21/u17-coupe-grand-ouest-16952
END:VEVENT
END:VCALENDAR
