BEGIN:VCALENDAR
VERSION:2.0
PRODID:-//hacksw/handcal//NONSGML v1.0//EN
BEGIN:VEVENT
SUMMARY:Coupe Cadets grand ouest
UID:24fdd419-d289-400f-8f2f-9069ac21f672
DTSTART:20120420T220000Z
DTEND:20120421T220000Z
LOCATION:Localisation   
CATEGORIES:Sportif
STATUS:
DESCRIPTION:RCYB recoit Granville/Avranches
URL;VALUE=URI:https://www.rugbyclubyvetotais.com/evenements/2012/04/21/coupe-cadets-grand-ouest-16806
END:VEVENT
END:VCALENDAR
