BEGIN:VCALENDAR
VERSION:2.0
PRODID:-//hacksw/handcal//NONSGML v1.0//EN
BEGIN:VEVENT
SUMMARY:U17: tournoi societe generale
UID:476d93f4-6e2d-4fb5-a3cf-0ac971314e48
DTSTART:20120414T220000Z
DTEND:20120415T220000Z
LOCATION:Localisation   
CATEGORIES:Sportif
STATUS:
DESCRIPTION:Matchs a 7.
 
URL;VALUE=URI:https://www.rugbyclubyvetotais.com/evenements/2012/04/15/u17-tournoi-societe-generale-16803
END:VEVENT
END:VCALENDAR
