BEGIN:VCALENDAR
VERSION:2.0
PRODID:-//hacksw/handcal//NONSGML v1.0//EN
BEGIN:VEVENT
SUMMARY:Demi-finale Championnat de Normandie
UID:c3035312-6999-4bde-9b1a-c17f814a4b6e
DTSTART:20120414T220000Z
DTEND:20120415T220000Z
LOCATION:Localisation   
CATEGORIES:Sportif
STATUS:
DESCRIPTION:13h30: RCY (2) // RC Paut-Audemer 2
 15h00: RCY (1) // SC
 Bernay (1)
URL;VALUE=URI:https://www.rugbyclubyvetotais.com/evenements/2012/04/15/demi-finale-championnat-de-normandie-16947
END:VEVENT
END:VCALENDAR
