BEGIN:VCALENDAR
VERSION:2.0
PRODID:-//hacksw/handcal//NONSGML v1.0//EN
BEGIN:VEVENT
SUMMARY:Ecole de Rugby
UID:ebdde31a-faba-4e57-96c6-7436168fec6d
DTSTART:20120413T220000Z
DTEND:20120414T220000Z
LOCATION:Localisation   
CATEGORIES:Sportif
STATUS:
DESCRIPTION:U7 - U9 - U11: tournoi a Barentin
URL;VALUE=URI:https://www.rugbyclubyvetotais.com/evenements/2012/04/14/ecole-de-rugby-16948
END:VEVENT
END:VCALENDAR
