BEGIN:VCALENDAR
VERSION:2.0
PRODID:-//hacksw/handcal//NONSGML v1.0//EN
BEGIN:VEVENT
SUMMARY:Ecole de rugby - entrainement avec l'IME
UID:56f78ae7-7058-4707-b3e4-3b3580e4a93c
DTSTART:20120410T220000Z
DTEND:20120411T220000Z
LOCATION:Localisation   
CATEGORIES:Sportif
STATUS:
DESCRIPTION:Rendez-vous a 10h00 - Possibilite de dejeuner au club
 (sur inscription, renseignement aupres d'Yves Tonnerre)
URL;VALUE=URI:https://www.rugbyclubyvetotais.com/evenements/2012/04/11/ecole-de-rugby-entrainement-avec-lime-16828
END:VEVENT
END:VCALENDAR
