BEGIN:VCALENDAR
VERSION:2.0
PRODID:-//hacksw/handcal//NONSGML v1.0//EN
BEGIN:VEVENT
SUMMARY:Seniors
UID:96c6e82b-0726-451c-8439-3bcc07529804
DTSTART:20120407T220000Z
DTEND:20120408T220000Z
LOCATION:Localisation   
CATEGORIES:Sportif
STATUS:
DESCRIPTION:Championnat: 1/4 finale ~ 13h30 a Herouville
 Herouville
 (2) / RCY (2)
URL;VALUE=URI:https://www.rugbyclubyvetotais.com/evenements/2012/04/08/seniors-16785
END:VEVENT
END:VCALENDAR
