BEGIN:VCALENDAR
VERSION:2.0
PRODID:-//hacksw/handcal//NONSGML v1.0//EN
BEGIN:VEVENT
SUMMARY:U7 - U9 - U11
UID:c966204a-a270-4c0f-8f79-e15019327cf5
DTSTART:20120406T220000Z
DTEND:20120407T220000Z
LOCATION:Localisation   
CATEGORIES:Sportif
STATUS:
DESCRIPTION:Tournoi a Brionne
URL;VALUE=URI:https://www.rugbyclubyvetotais.com/evenements/2012/04/07/u7-u9-u11-16951
END:VEVENT
END:VCALENDAR
