BEGIN:VCALENDAR
VERSION:2.0
PRODID:-//hacksw/handcal//NONSGML v1.0//EN
BEGIN:VEVENT
SUMMARY:Seniors
UID:1fde868b-50b7-434e-a0d0-ad5c12a7fc9b
DTSTART:20120331T220000Z
DTEND:20120401T220000Z
LOCATION:Localisation   
CATEGORIES:Sportif
STATUS:
DESCRIPTION:Championnat: deplacement au Rugby Club Bocage Virois
URL;VALUE=URI:https://www.rugbyclubyvetotais.com/evenements/2012/04/01/seniors-16784
END:VEVENT
END:VCALENDAR
