BEGIN:VCALENDAR
VERSION:2.0
PRODID:-//hacksw/handcal//NONSGML v1.0//EN
BEGIN:VEVENT
SUMMARY:Foire a tout
UID:b8452f4f-724f-4829-ba24-a063a74f3d4a
DTSTART:20120331T220000Z
DTEND:20120401T220000Z
LOCATION:Localisation   
CATEGORIES:Sportif
STATUS:
DESCRIPTION:Parking du Champ de Foire / Rue Retimare a Yvetot, de
 8h00 a 18h00. Accueil des exposants des 06h00.
URL;VALUE=URI:https://www.rugbyclubyvetotais.com/evenements/2012/04/01/foire-a-tout-16899
END:VEVENT
END:VCALENDAR
