BEGIN:VCALENDAR
VERSION:2.0
PRODID:-//hacksw/handcal//NONSGML v1.0//EN
BEGIN:VEVENT
SUMMARY:U19 / Championnat Danet poule 2
UID:923b41f5-02fd-4876-b72f-16f62129ecb7
DTSTART:20120330T220000Z
DTEND:20120331T220000Z
LOCATION:Localisation   
CATEGORIES:Sportif
STATUS:
DESCRIPTION:SC Bernay / RCY-CSG-FRC
URL;VALUE=URI:https://www.rugbyclubyvetotais.com/evenements/2012/03/31/u19-championnat-danet-poule-2-16921
END:VEVENT
END:VCALENDAR
