BEGIN:VCALENDAR
VERSION:2.0
PRODID:-//hacksw/handcal//NONSGML v1.0//EN
BEGIN:VEVENT
SUMMARY:	U17 / Championnat Teuliere poule 8 
UID:c393acd5-d1dc-4e9e-80fd-ae4827caa88b
DTSTART:20120330T220000Z
DTEND:20120331T220000Z
LOCATION:Localisation   
CATEGORIES:Sportif
STATUS:
DESCRIPTION:Stade Rouennais / RCY-RCB
URL;VALUE=URI:https://www.rugbyclubyvetotais.com/evenements/2012/03/31/u17-championnat-teuliere-poule-8-16935
END:VEVENT
END:VCALENDAR
