BEGIN:VCALENDAR
VERSION:2.0
PRODID:-//hacksw/handcal//NONSGML v1.0//EN
BEGIN:VEVENT
SUMMARY:U13 & U15: deplacement a Evreux
UID:100a3f65-7a27-47a7-975d-921dc1e04d59
DTSTART:20120330T220000Z
DTEND:20120331T220000Z
LOCATION:Localisation   
CATEGORIES:Sportif
STATUS:
DESCRIPTION:les moins 13 et moins 15 ans jouent a Evreux (OPE,
 L'Aigle, Rouen)
URL;VALUE=URI:https://www.rugbyclubyvetotais.com/evenements/2012/03/31/u13-amp-u15-deplacement-a-evreux-16950
END:VEVENT
END:VCALENDAR
