BEGIN:VCALENDAR
VERSION:2.0
PRODID:-//hacksw/handcal//NONSGML v1.0//EN
BEGIN:VEVENT
SUMMARY:U7 / U9 / U11: tournoi
UID:29574e72-8a9a-4853-bd9b-2d0393979238
DTSTART:20120323T230000Z
DTEND:20120324T230000Z
LOCATION:Localisation   
CATEGORIES:Sportif
STATUS:
DESCRIPTION:Les moins 7, moins 9 & moins 11 ans participent a un
 tournoi a Dieppe.
URL;VALUE=URI:https://www.rugbyclubyvetotais.com/evenements/2012/03/24/u7-u9-u11-tournoi-16939
END:VEVENT
END:VCALENDAR
