BEGIN:VCALENDAR
VERSION:2.0
PRODID:-//hacksw/handcal//NONSGML v1.0//EN
BEGIN:VEVENT
SUMMARY:U17
UID:ddb0704c-c592-4569-b6d0-58c63d11c41d
DTSTART:20120323T230000Z
DTEND:20120324T230000Z
LOCATION:Localisation   
CATEGORIES:Sportif
STATUS:
DESCRIPTION:Match a Barentin contre le HAC
URL;VALUE=URI:https://www.rugbyclubyvetotais.com/evenements/2012/03/24/u17-16949
END:VEVENT
END:VCALENDAR
