BEGIN:VCALENDAR
VERSION:2.0
PRODID:-//hacksw/handcal//NONSGML v1.0//EN
BEGIN:VEVENT
SUMMARY:Seniors
UID:89461fb4-46ec-4365-b701-6f9eb7fd890f
DTSTART:20120317T230000Z
DTEND:20120318T230000Z
LOCATION:Localisation   
CATEGORIES:Sportif
STATUS:
DESCRIPTION:Championnat: reception du XV Couronnais
URL;VALUE=URI:https://www.rugbyclubyvetotais.com/evenements/2012/03/18/seniors-16787
END:VEVENT
END:VCALENDAR
