BEGIN:VCALENDAR
VERSION:2.0
PRODID:-//hacksw/handcal//NONSGML v1.0//EN
BEGIN:VEVENT
SUMMARY:U17 / Championnat Teuliere poule 8
UID:b9b73bbd-10fa-42e7-8aa1-2ac3edfedea8
DTSTART:20120316T230000Z
DTEND:20120317T230000Z
LOCATION:Localisation   
CATEGORIES:Sportif
STATUS:
DESCRIPTION:reception de Dieppe UC
URL;VALUE=URI:https://www.rugbyclubyvetotais.com/evenements/2012/03/17/u17-championnat-teuliere-poule-8-16944
END:VEVENT
END:VCALENDAR
