BEGIN:VCALENDAR
VERSION:2.0
PRODID:-//hacksw/handcal//NONSGML v1.0//EN
BEGIN:VEVENT
SUMMARY:Seniors
UID:2ff9ec6e-26b0-4709-9ee2-081a036d0fec
DTSTART:20120310T230000Z
DTEND:20120311T230000Z
LOCATION:Localisation   
CATEGORIES:Sportif
STATUS:
DESCRIPTION:Championnat: deplacement au Rugby club Mont Saint Aignan
 (report du match prevu le 05/02)
URL;VALUE=URI:https://www.rugbyclubyvetotais.com/evenements/2012/03/11/seniors-16845
END:VEVENT
END:VCALENDAR
