BEGIN:VCALENDAR
VERSION:2.0
PRODID:-//hacksw/handcal//NONSGML v1.0//EN
BEGIN:VEVENT
SUMMARY:U19 / Championnat Danet poule 2
UID:8ed4a94b-c38d-4e0c-9c17-9a341c2602a6
DTSTART:20120309T230000Z
DTEND:20120310T230000Z
LOCATION:Localisation   
CATEGORIES:Sportif
STATUS:
DESCRIPTION:RCY-CSG-FRC / Section Lexovienne Rugby
URL;VALUE=URI:https://www.rugbyclubyvetotais.com/evenements/2012/03/10/u19-championnat-danet-poule-2-16920
END:VEVENT
END:VCALENDAR
