BEGIN:VCALENDAR
VERSION:2.0
PRODID:-//hacksw/handcal//NONSGML v1.0//EN
BEGIN:VEVENT
SUMMARY:	U17 / Championnat Teuliere poule 8 
UID:bea861d1-ba74-4bae-9b1b-8ccf16f6336e
DTSTART:20120309T230000Z
DTEND:20120310T230000Z
LOCATION:Localisation   
CATEGORIES:Sportif
STATUS:
DESCRIPTION:RCY-RCB / Lisieux
URL;VALUE=URI:https://www.rugbyclubyvetotais.com/evenements/2012/03/10/u17-championnat-teuliere-poule-8-16934
END:VEVENT
END:VCALENDAR
